BEGIN:VCALENDAR
VERSION:2.0
PRODID:-//Contratero//ES
CALSCALE:GREGORIAN
METHOD:PUBLISH
BEGIN:VEVENT
UID:21-2025 PROM@contratero.es
DTSTAMP:20260421T185034Z
DTSTART:20250509T235959
DTEND:20250510T005959
SUMMARY:Cierre: Contrato de sistema de gestión de destinos turísti
DESCRIPTION:Contrato de sistema de gestión de destinos turísticos y la traducción de sus contenidos para FECOEV M.P.\, S.A.U.\\n\\nOrganismo: Vicepresidencia del Consejo de Administración de Fires\, Congressos i Esdeveniments D'Eivissa\, S.A.U.\\n\\nVer en Contratero: https://contratero.es/contracts/21-2025 PROM
URL:https://contratero.es/contracts/21-2025 PROM
STATUS:CONFIRMED
BEGIN:VALARM
TRIGGER:-P1D
ACTION:DISPLAY
DESCRIPTION:Recordatorio: Contrato de sistema de gestión
END:VALARM
END:VEVENT
END:VCALENDAR